BEGIN:VCALENDAR
VERSION:2.0
PRODID:https://althengstett.sv-web.de/

BEGIN:VEVENT
UID:event0105202669ec97983abfc2.31314445
DTSTART:20260501T173000Z
DTEND:20260501T215900Z

SUMMARY:Jugendkreis (ab 16 Jahre)
DESCRIPTION:Infos: Joel Pfeil Tel.: 0151 227 804 53
END:VEVENT

END:VCALENDAR