BEGIN:VCALENDAR
VERSION:2.0
PRODID:https://althengstett.sv-web.de/

BEGIN:VEVENT
UID:event2304202669e9deb4db7424.72686102
DTSTART:20260423T173000Z
DTEND:20260423T190000Z
LOCATION:Haus der Süddeutschen Gemeinschaft, Poststraße 3, 75382 Althengstett
SUMMARY:Bibel- und Gebetsstunde
DESCRIPTION:Bibel- und Gebetsstunde\nWir treffen uns jeden&amp;amp\;nbsp\;Donnerstag&amp;amp\;nbsp\;um&amp;amp\;nbsp\;19:30 Uhr&amp;amp\;nbsp\;im Haus der Süddeutschen Gemeinschaft.\nDas gemeinsame Singen und Betrachten eines Bibeltextes gehören zum festen Bestandteil des Abends.\nIm Gebet loben und danken wir Gott für seine Liebe\, Treue und sein Durchtragen. Die Gebetsanliegen reichen von persönlichen Freuden und Nöten bis zu den Belangen der Liebenzeller Mission weltweit. Wir beten für Menschen in verantwortlichen Positionen in Politik\, Gesellschaft und Kirche\, für Althengstett und nicht zuletzt für die Mitarbeiterinnen und Mitarbeiter sowie für die Zukunft unserer Gemeinschaft mit ihren verschiedenen Kreisen und Angeboten.\nWeitere Infos: Beate Pfrommer\n &amp;amp\;nbsp\;Tel. 07051 70743 &amp;amp\;nbsp\;beate.walter.pfrommer@web.de 
END:VEVENT

END:VCALENDAR